BEGIN:VCALENDAR
VERSION:2.0
PRODID:-//八島游舷/YASHIMA Yugen - ECPv6.15.20//NONSGML v1.0//EN
CALSCALE:GREGORIAN
METHOD:PUBLISH
X-ORIGINAL-URL:https://YashimaYugen.com
X-WR-CALDESC:八島游舷/YASHIMA Yugen のイベント
REFRESH-INTERVAL;VALUE=DURATION:PT1H
X-Robots-Tag:noindex
X-PUBLISHED-TTL:PT1H
BEGIN:VTIMEZONE
TZID:Pacific/Auckland
BEGIN:STANDARD
TZOFFSETFROM:+1300
TZOFFSETTO:+1200
TZNAME:NZST
DTSTART:20190406T140000
END:STANDARD
BEGIN:DAYLIGHT
TZOFFSETFROM:+1200
TZOFFSETTO:+1300
TZNAME:NZDT
DTSTART:20190928T140000
END:DAYLIGHT
BEGIN:STANDARD
TZOFFSETFROM:+1300
TZOFFSETTO:+1200
TZNAME:NZST
DTSTART:20200404T140000
END:STANDARD
BEGIN:DAYLIGHT
TZOFFSETFROM:+1200
TZOFFSETTO:+1300
TZNAME:NZDT
DTSTART:20200926T140000
END:DAYLIGHT
BEGIN:STANDARD
TZOFFSETFROM:+1300
TZOFFSETTO:+1200
TZNAME:NZST
DTSTART:20210403T140000
END:STANDARD
BEGIN:DAYLIGHT
TZOFFSETFROM:+1200
TZOFFSETTO:+1300
TZNAME:NZDT
DTSTART:20210925T140000
END:DAYLIGHT
END:VTIMEZONE
BEGIN:VEVENT
DTSTART;TZID=Pacific/Auckland:20200801T230000
DTEND;TZID=Pacific/Auckland:20200802T020000
DTSTAMP:20260419T230652
CREATED:20200730T041328Z
LAST-MODIFIED:20200730T140529Z
UID:1766-1596322800-1596333600@YashimaYugen.com
SUMMARY:Japan Party (August 1\, party band #1)
DESCRIPTION:A Zoom party with Japanese authors\, editors\, and people interested in Japan (I think).  \nThe event item page at the CoNZealand website.
URL:https://YashimaYugen.com/event/cnz-japan-party/
LOCATION:Con Operations – Party Zoom\, ニュージーランド
CATEGORIES:CoNZealand
ATTACH;FMTTYPE=image/jpeg:https://YashimaYugen.com/wp/wp-content/uploads/SANY5870_stitch-2048.jpg
END:VEVENT
END:VCALENDAR