BEGIN:VCALENDAR
VERSION:2.0
PRODID:-//八島游舷/YASHIMA Yugen - ECPv6.15.20//NONSGML v1.0//EN
CALSCALE:GREGORIAN
METHOD:PUBLISH
X-WR-CALNAME:八島游舷/YASHIMA Yugen
X-ORIGINAL-URL:https://YashimaYugen.com
X-WR-CALDESC:八島游舷/YASHIMA Yugen のイベント
REFRESH-INTERVAL;VALUE=DURATION:PT1H
X-Robots-Tag:noindex
X-PUBLISHED-TTL:PT1H
BEGIN:VTIMEZONE
TZID:Pacific/Auckland
BEGIN:STANDARD
TZOFFSETFROM:+1300
TZOFFSETTO:+1200
TZNAME:NZST
DTSTART:20190406T140000
END:STANDARD
BEGIN:DAYLIGHT
TZOFFSETFROM:+1200
TZOFFSETTO:+1300
TZNAME:NZDT
DTSTART:20190928T140000
END:DAYLIGHT
BEGIN:STANDARD
TZOFFSETFROM:+1300
TZOFFSETTO:+1200
TZNAME:NZST
DTSTART:20200404T140000
END:STANDARD
BEGIN:DAYLIGHT
TZOFFSETFROM:+1200
TZOFFSETTO:+1300
TZNAME:NZDT
DTSTART:20200926T140000
END:DAYLIGHT
BEGIN:STANDARD
TZOFFSETFROM:+1300
TZOFFSETTO:+1200
TZNAME:NZST
DTSTART:20210403T140000
END:STANDARD
BEGIN:DAYLIGHT
TZOFFSETFROM:+1200
TZOFFSETTO:+1300
TZNAME:NZDT
DTSTART:20210925T140000
END:DAYLIGHT
END:VTIMEZONE
BEGIN:VEVENT
DTSTART;TZID=Pacific/Auckland:20200801T230000
DTEND;TZID=Pacific/Auckland:20200802T020000
DTSTAMP:20260419T230358
CREATED:20200730T041328Z
LAST-MODIFIED:20200730T140529Z
UID:1766-1596322800-1596333600@YashimaYugen.com
SUMMARY:Japan Party (August 1\, party band #1)
DESCRIPTION:A Zoom party with Japanese authors\, editors\, and people interested in Japan (I think).  \nThe event item page at the CoNZealand website.
URL:https://YashimaYugen.com/event/cnz-japan-party/
LOCATION:Con Operations – Party Zoom\, ニュージーランド
CATEGORIES:CoNZealand
ATTACH;FMTTYPE=image/jpeg:https://YashimaYugen.com/wp/wp-content/uploads/SANY5870_stitch-2048.jpg
END:VEVENT
BEGIN:VEVENT
DTSTART;TZID=Pacific/Auckland:20200801T180000
DTEND;TZID=Pacific/Auckland:20200801T185000
DTSTAMP:20260419T230358
CREATED:20200716T031100Z
LAST-MODIFIED:20200801T042529Z
UID:1677-1596304800-1596307800@YashimaYugen.com
SUMMARY:Intersection of Science Fiction and Technology in Japan (Format: Panel)
DESCRIPTION:1 Aug 2020\, Saturday 18:00 – 18:50\, Programme Room 4 (Webinar) (Programming) \nThis session will introduce how recent Japanese science fiction and Japanese media technology including VR\, AI\, and video games are affecting each other. Various perspectives from a Japanese novelist\, a reviewer\, a science writer and a researcher will help outline what is going on in current Japanese science fiction and technology. \nMs. Terrie Hashimoto (M)\, Dr Dohjin Miyamoto (University of Tsukuba)\, Yugen Yashima\, Dr. Hirotaka Osawa (University of Tsukuba) \nThe event item page at the CoNZealand website.
URL:https://YashimaYugen.com/event/cnz-scifi-tech-jp/
LOCATION:Programme Room 4 (Webinar)
CATEGORIES:CoNZealand
ATTACH;FMTTYPE=image/jpeg:https://YashimaYugen.com/wp/wp-content/uploads/sfs.jpg
END:VEVENT
BEGIN:VEVENT
DTSTART;TZID=Pacific/Auckland:20200801T090000
DTEND;TZID=Pacific/Auckland:20200801T095000
DTSTAMP:20260419T230358
CREATED:20200716T025518Z
LAST-MODIFIED:20200730T140424Z
UID:1674-1596272400-1596275400@YashimaYugen.com
SUMMARY:Before and After Tolkien: Epic Fantasy (Format: Panel)
DESCRIPTION:1 Aug 2020\, Saturday 09:00 – 09:50\, Programme Room 2 (Webinar) (Programming) \n\n\nEpic fantasy was important before The Lord of the Rings and continues to be a large part of the fantasy field. The panel looks at epic fantasy\, and discusses some of their favorites\, both classic and new. \n\n\nYugen Yashima\, Vida Cruz\, A.J. Ponder (M)\, Elizabeth Moon\, Yves Meynard \nThe event item page at the CoNZealand website.
URL:https://YashimaYugen.com/event/cnz-tolkien/
LOCATION:Programme Room 2 (Webinar)
CATEGORIES:CoNZealand
ATTACH;FMTTYPE=image/jpeg:https://YashimaYugen.com/wp/wp-content/uploads/DSC6445-2k.jpg
END:VEVENT
BEGIN:VEVENT
DTSTART;TZID=Pacific/Auckland:20200729T150000
DTEND;TZID=Pacific/Auckland:20200729T152500
DTSTAMP:20260419T230358
CREATED:20200716T020828Z
LAST-MODIFIED:20200727T090216Z
UID:1661-1596034800-1596036300@YashimaYugen.com
SUMMARY:Reading: Yashima Yugen (25 min)
DESCRIPTION:29 Jul 2020\, Wednesday 15:00 – 15:25 NZST\, Reading Room 2 (Programming) \nYugen Yashima \nI will read excerpts from “Final Anchors” and “Hosshoji the Rocket Temple” in English.  \nThe event item page at the CoNZealand website.
URL:https://YashimaYugen.com/event/cnz-reading/
CATEGORIES:CoNZealand
ATTACH;FMTTYPE=image/jpeg:https://YashimaYugen.com/wp/wp-content/uploads/hosshoji-s.jpg
END:VEVENT
END:VCALENDAR