BEGIN:VCALENDAR
VERSION:2.0
PRODID:-//八島游舷/YASHIMA Yugen - ECPv6.15.20//NONSGML v1.0//EN
CALSCALE:GREGORIAN
METHOD:PUBLISH
X-WR-CALNAME:八島游舷/YASHIMA Yugen
X-ORIGINAL-URL:https://YashimaYugen.com
X-WR-CALDESC:八島游舷/YASHIMA Yugen のイベント
REFRESH-INTERVAL;VALUE=DURATION:PT1H
X-Robots-Tag:noindex
X-PUBLISHED-TTL:PT1H
BEGIN:VTIMEZONE
TZID:Asia/Tokyo
BEGIN:STANDARD
TZOFFSETFROM:+0900
TZOFFSETTO:+0900
TZNAME:JST
DTSTART:20190101T000000
END:STANDARD
END:VTIMEZONE
BEGIN:VEVENT
DTSTART;TZID=Asia/Tokyo:20200919T180000
DTEND;TZID=Asia/Tokyo:20200919T220000
DTSTAMP:20260425T201728
CREATED:20200911T025306Z
LAST-MODIFIED:20211221T032410Z
UID:1842-1600538400-1600552800@YashimaYugen.com
SUMMARY:京都SFフェスティバル（京フェス）2020「世界に向けて書くために――WorldCon、SFS、文芸カフェ、英語学習記事」
DESCRIPTION:八島游舷が、今後の作品と、現在取り組んでいる（いた）4つのプロジェクトについて語る。具体的には、初参加した世界SF大会（ワールドコン）、日本SFの情報を英語で発信するSFS（Sugoi Fushigi Show）、毎月開催している文芸カフェ、アルクで連載した英語学習記事を紹介する。 \n参加申し込みはこちらから。 \n 
URL:https://YashimaYugen.com/event/kyofes2020/
CATEGORIES:SF
ATTACH;FMTTYPE=image/jpeg:https://YashimaYugen.com/wp/wp-content/uploads/DSC6672-2k.jpg
END:VEVENT
END:VCALENDAR